BEGIN:VCALENDAR
VERSION:2.0
PRODID:-//hacksw/handcal//NONSGML v1.0//EN
BEGIN:VEVENT
DTSTART:20200213T130000
DTEND:20200213T160000
LOCATION:Salle Mabileau \nSciences Po Bordeaux \n33600 PESSAC
ORGANIZER;CN=Julie Blotas:MAILTO:
SUMMARY:Axe Identifications - Regards croisés sur le religieux
DESCRIPTION:REGARDS CROISÉS SUR LE RELIGIEUX\nPrésentation et discussion (en présence des auteurs) des publications de :\nXABIER ITÇAINA\nMédiations catholiques en Europe du Sud. Les politiques invisibles du...
URL:https://reseau.sciencespobordeaux.fr/fr/event/axe-identifications-regards-croises-sur-le-religieux/2020/02/13/325
BEGIN:VALARM
TRIGGER:-P0DT1H0M0S
ACTION:DISPLAY
END:VALARM
END:VEVENT
END:VCALENDAR